BEGIN:VCALENDAR
VERSION:2.0
PRODID:-//101 Things to Do in Wine Country - ECPv6.15.20//NONSGML v1.0//EN
CALSCALE:GREGORIAN
METHOD:PUBLISH
X-ORIGINAL-URL:http://101thingstodoinwinecountry.com
X-WR-CALDESC:Events for 101 Things to Do in Wine Country
REFRESH-INTERVAL;VALUE=DURATION:PT1H
X-Robots-Tag:noindex
X-PUBLISHED-TTL:PT1H
BEGIN:VTIMEZONE
TZID:America/Los_Angeles
BEGIN:DAYLIGHT
TZOFFSETFROM:-0800
TZOFFSETTO:-0700
TZNAME:PDT
DTSTART:20250309T100000
END:DAYLIGHT
BEGIN:STANDARD
TZOFFSETFROM:-0700
TZOFFSETTO:-0800
TZNAME:PST
DTSTART:20251102T090000
END:STANDARD
BEGIN:DAYLIGHT
TZOFFSETFROM:-0800
TZOFFSETTO:-0700
TZNAME:PDT
DTSTART:20260308T100000
END:DAYLIGHT
BEGIN:STANDARD
TZOFFSETFROM:-0700
TZOFFSETTO:-0800
TZNAME:PST
DTSTART:20261101T090000
END:STANDARD
BEGIN:DAYLIGHT
TZOFFSETFROM:-0800
TZOFFSETTO:-0700
TZNAME:PDT
DTSTART:20270314T100000
END:DAYLIGHT
BEGIN:STANDARD
TZOFFSETFROM:-0700
TZOFFSETTO:-0800
TZNAME:PST
DTSTART:20271107T090000
END:STANDARD
END:VTIMEZONE
BEGIN:VEVENT
DTSTART;TZID=America/Los_Angeles:20260417T170000
DTEND;TZID=America/Los_Angeles:20260417T200000
DTSTAMP:20260422T024833
CREATED:20260403T210112Z
LAST-MODIFIED:20260403T210112Z
UID:7595-1776445200-1776456000@101thingstodoinwinecountry.com
SUMMARY:Raven Theatre presents An Almost Famous Evening with Cameron Crowe
DESCRIPTION:T.O.W.N. presents An Almost Famous Evening with Oscar-winning writer & director Cameron Crowe\, celebrating the 25th anniversary of Almost Famous and benefiting True West Film Center\, a non-profit organization. \nThis event at the Raven is a simulcast experience; the full evening at True West Film Center includes a seated dinner from T.O.W.N. featuring 7 restaurants and 7 wineries; a screening of Almost Famous followed by a Q&A with Cameron\, legendary rock journalist Ben Fong-Torres\, and True West’s John Cooper; and a live band covering ‘70s classics. Proceeds benefit True West Film Center\, a non-profit organization offering educational programs and a full schedule of films in its modern jewel box cinema in downtown Healdsburg\, simulcast at the iconic Raven Performing Arts Theater. \nThe simulcast experience at the Raven includes: \n\nScreening of “Almost Famous\,” the Oscar-winning film by Cameron Crowe.\nSimulcast post-screening Q&A session.\nGreeting by Cameron Crowe.\nOne Golden Steak Warriors sandwich.\nOne glass of wine from Flambeaux\nOne glass of wine from The Harris Gallery.\nPopcorn\, candy\, and other goodies.\n\nFilm Synopsis:\nIn 1973\, 15-year-old William Miller’s unabashed love of music and aspiration to become a rock journalist lands him an assignment from Rolling Stone magazine to interview and tour with the up-and-coming band\, Stillwater. Starring Billy Crudup\, Kate Hudson\, Patrick Fugit\, and Frances McDormand. Rated “R.”
URL:http://101thingstodoinwinecountry.com/event/raven-theatre-presents-an-almost-famous-evening-with-cameron-crowe
LOCATION:Raven Performing Arts Theater\, 115 North Street\, Healdsburg\, 95448\, United States
CATEGORIES:Benefit,Dining,Event April-2026,Film,Raven Theatre
ATTACH;FMTTYPE=image/png:http://101thingstodoinwinecountry.com/wp-content/uploads/2026/04/Cameron-Crowe.png
END:VEVENT
BEGIN:VEVENT
DTSTART;TZID=America/Los_Angeles:20260322T190000
DTEND;TZID=America/Los_Angeles:20260322T210000
DTSTAMP:20260422T024833
CREATED:20260107T174356Z
LAST-MODIFIED:20260304T001503Z
UID:6397-1774206000-1774213200@101thingstodoinwinecountry.com
SUMMARY:Raven Performing Arts Theater presents David Nihill: Taking Tangents
DESCRIPTION:After a sold-out world tour\, comedian and author David Nihill is back with his brand new show\, Taking Tangents\, which promises to do exactly that. \nLeaving Dublin\, Ireland where he was born and raised until the age of 22\, David got drunk on travel and never quite hit sobriety of it. He has lived and worked in twelve countries and visited over eighty. His shows draw on his wide travels\, cultural observations\, attempts at language study\, (occasional) international drinking session(s) and being a mildly confused immigrant.  \nDavid is the winner of the prestigious annual San Francisco Comedy Competition\, (previous finalists include Robin Williams\, Ellen DeGeneres and Dana Carvey) and runner-up in the Moth’s largest US Grandslam storytelling competition. Also a bestselling writer\, David recorded his debut special Documented for Dry Bar Comedy in 2019\, his follow up Cultural Appreciation in 202\, and his award-winning show Shelf Help in 2025. He has been featured on TED.com\, Sirius XM\, Just For Laughs\, Netflix is a Joke Festival\, RTE’s Late Late Show\, The Irish Independent\, Inc\, NPR\, and the Huffington Post among others. A festival favorite\, David’s videos have also gone viral many times over with over 800 million views and a social following of over 2 million people. 
URL:http://101thingstodoinwinecountry.com/event/raven-performing-arts-theater-presents-david-nihill-taking-tangents
LOCATION:Raven Performing Arts Theater\, 115 North Street\, Healdsburg\, 95448\, United States
CATEGORIES:Comedy,Event March-2026,Live Entertainment,Raven Theatre,Stand Up Comedy
ATTACH;FMTTYPE=image/png:http://101thingstodoinwinecountry.com/wp-content/uploads/2026/01/David-Nihill.png
END:VEVENT
END:VCALENDAR