BEGIN:VCALENDAR
VERSION:2.0
PRODID:-//101 Things to Do in Wine Country - ECPv6.15.20//NONSGML v1.0//EN
CALSCALE:GREGORIAN
METHOD:PUBLISH
X-WR-CALNAME:101 Things to Do in Wine Country
X-ORIGINAL-URL:http://101thingstodoinwinecountry.com
X-WR-CALDESC:Events for 101 Things to Do in Wine Country
REFRESH-INTERVAL;VALUE=DURATION:PT1H
X-Robots-Tag:noindex
X-PUBLISHED-TTL:PT1H
BEGIN:VTIMEZONE
TZID:America/Los_Angeles
BEGIN:DAYLIGHT
TZOFFSETFROM:-0800
TZOFFSETTO:-0700
TZNAME:PDT
DTSTART:20250309T100000
END:DAYLIGHT
BEGIN:STANDARD
TZOFFSETFROM:-0700
TZOFFSETTO:-0800
TZNAME:PST
DTSTART:20251102T090000
END:STANDARD
BEGIN:DAYLIGHT
TZOFFSETFROM:-0800
TZOFFSETTO:-0700
TZNAME:PDT
DTSTART:20260308T100000
END:DAYLIGHT
BEGIN:STANDARD
TZOFFSETFROM:-0700
TZOFFSETTO:-0800
TZNAME:PST
DTSTART:20261101T090000
END:STANDARD
BEGIN:DAYLIGHT
TZOFFSETFROM:-0800
TZOFFSETTO:-0700
TZNAME:PDT
DTSTART:20270314T100000
END:DAYLIGHT
BEGIN:STANDARD
TZOFFSETFROM:-0700
TZOFFSETTO:-0800
TZNAME:PST
DTSTART:20271107T090000
END:STANDARD
END:VTIMEZONE
BEGIN:VEVENT
DTSTART;TZID=America/Los_Angeles:20260516T200000
DTEND;TZID=America/Los_Angeles:20260516T220000
DTSTAMP:20260424T110935
CREATED:20260416T161912Z
LAST-MODIFIED:20260416T161912Z
UID:7648-1778961600-1778968800@101thingstodoinwinecountry.com
SUMMARY:Mystic Theatre presents You Should Be Dancing - A Tribute to the Bee Gees
DESCRIPTION:There’s something timeless and universally captivating about the music of the Bee Gees that transcends generations. Their harmonious melodies and disco-infused classics have made them one of the most beloved and enduring acts in music history. Now\, imagine bringing the magic of the Bee Gees to your venue\, delighting your patrons with an unforgettable night of music\, dance\, and nostalgia.  \nYou Should Be Dancing is comprised of exceptionally talented musicians dedicated to faithfully recreating the Bee Gees’ iconic sound\, while elevating the onstage visual experience. With meticulous attention to detail\, they capture the essence of the brothers Gibb\, delivering an unbelievable experience that transports audiences back to the golden era of disco and beyond. \nWhat are you waiting for? YOU should be dancing! \nhttps://www.bayareabeegees.com/
URL:http://101thingstodoinwinecountry.com/event/mystic-theatre-presents-you-should-be-dancing-a-tribute-to-the-bee-gees
LOCATION:Mystic Theatre\, 23 Petaluma Blvd N\, Petaluma\, CA\, 94952\, United States
CATEGORIES:Disco,Event May-2026,Live Entertainment,Music,Mystic Theatre,Tribute
ATTACH;FMTTYPE=image/png:http://101thingstodoinwinecountry.com/wp-content/uploads/2026/04/you-should-be-dancing3.png
END:VEVENT
END:VCALENDAR