BEGIN:VCALENDAR
VERSION:2.0
PRODID:-//101 Things to Do in Wine Country - ECPv6.15.20//NONSGML v1.0//EN
CALSCALE:GREGORIAN
METHOD:PUBLISH
X-ORIGINAL-URL:http://101thingstodoinwinecountry.com
X-WR-CALDESC:Events for 101 Things to Do in Wine Country
REFRESH-INTERVAL;VALUE=DURATION:PT1H
X-Robots-Tag:noindex
X-PUBLISHED-TTL:PT1H
BEGIN:VTIMEZONE
TZID:America/Los_Angeles
BEGIN:DAYLIGHT
TZOFFSETFROM:-0800
TZOFFSETTO:-0700
TZNAME:PDT
DTSTART:20250309T100000
END:DAYLIGHT
BEGIN:STANDARD
TZOFFSETFROM:-0700
TZOFFSETTO:-0800
TZNAME:PST
DTSTART:20251102T090000
END:STANDARD
BEGIN:DAYLIGHT
TZOFFSETFROM:-0800
TZOFFSETTO:-0700
TZNAME:PDT
DTSTART:20260308T100000
END:DAYLIGHT
BEGIN:STANDARD
TZOFFSETFROM:-0700
TZOFFSETTO:-0800
TZNAME:PST
DTSTART:20261101T090000
END:STANDARD
BEGIN:DAYLIGHT
TZOFFSETFROM:-0800
TZOFFSETTO:-0700
TZNAME:PDT
DTSTART:20270314T100000
END:DAYLIGHT
BEGIN:STANDARD
TZOFFSETFROM:-0700
TZOFFSETTO:-0800
TZNAME:PST
DTSTART:20271107T090000
END:STANDARD
END:VTIMEZONE
BEGIN:VEVENT
DTSTART;TZID=America/Los_Angeles:20260425T200000
DTEND;TZID=America/Los_Angeles:20260425T220000
DTSTAMP:20260425T063409
CREATED:20260331T170422Z
LAST-MODIFIED:20260331T170422Z
UID:7356-1777147200-1777154400@101thingstodoinwinecountry.com
SUMMARY:Sweetwater presents MOMOTOMBO-SF
DESCRIPTION:MOMOTOMBO-SF’s members are no strangers to greatness\, having shared stages with icons like Santana\, Jorge Santana Band\, Sly & the Family Stone\, Taj Mahal\, Herbie Hancock\, Tito Puente\, Los Lobos\, Pete Escovedo\, Bo Diddley\, and more. Their concerts are a celebration of this rich legacy\, delivering unforgettable performances that pulse with raw energy and soul. \nMOMOTOMBO-SF: Experience the Fire!  Join the eruption and let the rhythms of Latin Rock set your spirit ablaze!
URL:http://101thingstodoinwinecountry.com/event/sweetwater-presents-momotombo-sf
LOCATION:Sweetwater Music Hall\, 19 Corte Madera Avenue\, Mill Valley\, CA\, 94941\, United States
CATEGORIES:Event April-2026,Jazz,Latin,Live Entertainment,Music,R & B Music,Rock and Roll,Sweetwater
ATTACH;FMTTYPE=image/jpeg:http://101thingstodoinwinecountry.com/wp-content/uploads/2026/03/momotombo.jpg
END:VEVENT
BEGIN:VEVENT
DTSTART;TZID=America/Los_Angeles:20260502T193000
DTEND;TZID=America/Los_Angeles:20260502T220000
DTSTAMP:20260425T063409
CREATED:20260401T151709Z
LAST-MODIFIED:20260401T151741Z
UID:7506-1777750200-1777759200@101thingstodoinwinecountry.com
SUMMARY:The California Theatre presents Volker Strifler
DESCRIPTION:Bring your friends for an evening of bluesy rhythmic fun with celebrated guitarist/songwriter Volker Strifler. \nGuitarist\, songwriter and singer Volker Strifler creates music that starts with his strong blues roots and explores the rhythms of rock\, jazz and Latin music. Volker has toured around the US and Europe with the Ford Blues Band and released multiple solo albums\, including his latest\, “Let the Music Rise\,” which highlights his unique musical style and sound.
URL:http://101thingstodoinwinecountry.com/event/the-california-theatre-volker-strifler
LOCATION:The California Theatre\, 528 7th Street\, Santa Rosa\, CA\, 95401\, United States
CATEGORIES:Blues,California Theatre,Event May-2026,Jazz,Latin,Live Entertainment,Music,Rock and Roll
ATTACH;FMTTYPE=image/jpeg:http://101thingstodoinwinecountry.com/wp-content/uploads/2026/04/volker-strifler2.jpg
END:VEVENT
BEGIN:VEVENT
DTSTART;TZID=America/Los_Angeles:20260521T190000
DTEND;TZID=America/Los_Angeles:20260521T210000
DTSTAMP:20260425T063409
CREATED:20260331T223734Z
LAST-MODIFIED:20260331T223734Z
UID:7443-1779390000-1779397200@101thingstodoinwinecountry.com
SUMMARY:Luther Burbank Center presents Paul Anka: A Man and His Music
DESCRIPTION:With his craftsmanship as a master songwriter and his youthful tenor sound\, Paul Anka has been crooning his way to fans’ hearts with a polished blend of classic pop and rock-and-roll energy. \nHis duets albums\, Body of Work in 1998 that features Frank Sinatra\, Celine Dion\, Tom Jones and daughter Anthea Anka\, and Duets in 2013 with Frank Sinatra\, Michael Jackson\, Tom Jones\, Celine Dion\, and Michael Bublé\, celebrate his lifelong collaborations with a variety of artists. Duets set a milestone in Billboard Chart history because\, with the CD\, Anka became the only artist to have a CD on the Billboard Top 100 Chart for seven consecutive decades. \nAt 81 years old\, Paul Anka continues to write and record. His latest two albums\, Making Memories and Sessions\, were released in 2021 and 2022 respectively. The albums featured new and never-before recorded songs as well as new takes on old classics\, notably “Put Your Head On My Shoulder\,” with Olivia Newton John\, one of her last recorded songs\, and “My Way\,” featuring Michael Buble and Andrea Bocelli.
URL:http://101thingstodoinwinecountry.com/event/luther-burbank-center-presents-paul-anka-a-man-and-his-music
LOCATION:Luther Burbank Center for the Arts\, 50 Mark West Springs Road\, Santa Rosa\, 95403\, United States
CATEGORIES:Event May-2026,Jazz,Live Entertainment,Luther Burbank Center for the Arts,Music,Pop
ATTACH;FMTTYPE=image/jpeg:http://101thingstodoinwinecountry.com/wp-content/uploads/2026/03/Paul-Anka.jpg
END:VEVENT
BEGIN:VEVENT
DTSTART;TZID=America/Los_Angeles:20260816T190000
DTEND;TZID=America/Los_Angeles:20260816T210000
DTSTAMP:20260425T063409
CREATED:20260303T221706Z
LAST-MODIFIED:20260303T221706Z
UID:7078-1786906800-1786914000@101thingstodoinwinecountry.com
SUMMARY:Green Music Center presents Trombone Shorty & Orleans Avenue and St. Paul & the Broken Bones
DESCRIPTION:Trombone Shorty & Orleans Avenue\nFew artists embody the heart and soul of their city like Trombone Shorty. Perhaps the most recognizable ambassador for New Orleans music working today\, Shorty has spent his entire life not only carrying the torch for Crescent City culture\, but also propelling it forward into the 21st century with his ecstatic live performances and intoxicating blend of rock\, funk\, soul\, jazz\, blues\, hip-hop\, and Caribbean influences. \nBorn Troy Andrews\, Shorty made his first appearance at New Orleans’ iconic Jazz Fest at the age of four\, when he took the stage for an impromptu performance with Bo Diddley. By six\, he was heading up his own brass band\, and by his early twenties\, he’d released the first in a string of critically acclaimed\, chart-topping albums that would lead to performances everywhere from the White House and the Grammy Awards to Madison Square Garden and the 2025 Super Bowl. \nSt. Paul & The Broken Bones\nSt. Paul & The Broken Bones are a powerhouse soul ensemble from Alabama known for their electrifying live shows and impassioned vocals. Formed in Birmingham in 2011\, the band features Paul Janeway (vocals)\, Jesse Phillips (bass)\, Browan Lollar (guitar)\, Kevin Leon (drums)\, Al Gamble (keyboards)\, Allen Branstetter (trumpet)\, Chad Fisher (trombone)\, and Amari Ansari (saxophone).  \nTheir new self-titled sixth album marks a creative renewal—melding the band’s adventurous spirit with a return to soulful\, song-focused roots. Recorded at the legendary FAME Studios and produced by Eg White (Adele\, Celine Dion)\, the record blends psych-funk grooves\, gospel-tinged ballads\, and cinematic rock flourishes. Tracks like “Sushi and Coca-Cola” and “Going Back” reflect both personal introspection and the band’s deepened identity after a decade of evolution.  \nTré Burt\nTré Burt is a Nashville-based singer-songwriter with Sacramento roots whose music bridges folk\, soul\, and Americana with unflinching emotional depth. Signed to John Prine’s Oh Boy Records\, he emerged with the album Caught It From the Rye (2020)\, a lo-fi\, poetic debut that established him as one of the label’s few new voices. Now\, Burt is stepping into a new creative era; self-contained\, raw\, and deeply personal.
URL:http://101thingstodoinwinecountry.com/event/green-music-center-presents-trombone-shorty-orleans-avenue-and-st-paul-the-broken-bones
LOCATION:Green Music Center\, 1801 East Cotati Avenue\, Rohnert Park\, CA\, 94928\, United States
CATEGORIES:Blues,Event August 2026,Green Music Center,Jazz,Live Entertainment,Music
ATTACH;FMTTYPE=image/jpeg:http://101thingstodoinwinecountry.com/wp-content/uploads/2026/03/Trombone-Shorty-Orleans-Ave.jpg
END:VEVENT
END:VCALENDAR