BEGIN:VCALENDAR
VERSION:2.0
PRODID:-//101 Things to Do in Wine Country - ECPv6.15.20//NONSGML v1.0//EN
CALSCALE:GREGORIAN
METHOD:PUBLISH
X-WR-CALNAME:101 Things to Do in Wine Country
X-ORIGINAL-URL:http://101thingstodoinwinecountry.com
X-WR-CALDESC:Events for 101 Things to Do in Wine Country
REFRESH-INTERVAL;VALUE=DURATION:PT1H
X-Robots-Tag:noindex
X-PUBLISHED-TTL:PT1H
BEGIN:VTIMEZONE
TZID:America/Los_Angeles
BEGIN:DAYLIGHT
TZOFFSETFROM:-0800
TZOFFSETTO:-0700
TZNAME:PDT
DTSTART:20250309T100000
END:DAYLIGHT
BEGIN:STANDARD
TZOFFSETFROM:-0700
TZOFFSETTO:-0800
TZNAME:PST
DTSTART:20251102T090000
END:STANDARD
BEGIN:DAYLIGHT
TZOFFSETFROM:-0800
TZOFFSETTO:-0700
TZNAME:PDT
DTSTART:20260308T100000
END:DAYLIGHT
BEGIN:STANDARD
TZOFFSETFROM:-0700
TZOFFSETTO:-0800
TZNAME:PST
DTSTART:20261101T090000
END:STANDARD
BEGIN:DAYLIGHT
TZOFFSETFROM:-0800
TZOFFSETTO:-0700
TZNAME:PDT
DTSTART:20270314T100000
END:DAYLIGHT
BEGIN:STANDARD
TZOFFSETFROM:-0700
TZOFFSETTO:-0800
TZNAME:PST
DTSTART:20271107T090000
END:STANDARD
END:VTIMEZONE
BEGIN:VEVENT
DTSTART;VALUE=DATE:20260313
DTEND;VALUE=DATE:20260323
DTSTAMP:20260423T053643
CREATED:20260303T181047Z
LAST-MODIFIED:20260303T181047Z
UID:7030-1773360000-1774223999@101thingstodoinwinecountry.com
SUMMARY:Cinnabar Theater presents Macbeth
DESCRIPTION:A dark and thrilling tale of ambition and consequence\, Shakespeare’s Macbeth comes to life through the powerful performances of Cinnabar’s Young Rep (ages 12–18). When Macbeth receives a prophecy from mysterious forces\, he sets out on a ruthless path to claim the throne of Scotland. But each act of violence only leads to more bloodshed—and the ghosts of his crimes refuse to stay buried. Murder\, madness\, and magic collide in this gripping tragedy. \nLocation: Sonoma State University – Warren Theater\, Located in Ives Hall: 1801 East Cotati Ave\, Rohnert Park\, CA 94928
URL:http://101thingstodoinwinecountry.com/event/cinnabar-theater-presents-macbeth
LOCATION:Sonoma State University\, 1801 East Cotati Avenue\, Rohnert Park\, ca\, 94928
CATEGORIES:Cinnabar Theater,Drama,Event March-2026,Live Entertainment,Stage Play
ATTACH;FMTTYPE=image/jpeg:http://101thingstodoinwinecountry.com/wp-content/uploads/2026/03/Macbeth.jpg
END:VEVENT
END:VCALENDAR