BEGIN:VCALENDAR
VERSION:2.0
PRODID:-//101 Things to Do in Wine Country - ECPv6.15.20//NONSGML v1.0//EN
CALSCALE:GREGORIAN
METHOD:PUBLISH
X-WR-CALNAME:101 Things to Do in Wine Country
X-ORIGINAL-URL:http://101thingstodoinwinecountry.com
X-WR-CALDESC:Events for 101 Things to Do in Wine Country
REFRESH-INTERVAL;VALUE=DURATION:PT1H
X-Robots-Tag:noindex
X-PUBLISHED-TTL:PT1H
BEGIN:VTIMEZONE
TZID:America/Los_Angeles
BEGIN:DAYLIGHT
TZOFFSETFROM:-0800
TZOFFSETTO:-0700
TZNAME:PDT
DTSTART:20250309T100000
END:DAYLIGHT
BEGIN:STANDARD
TZOFFSETFROM:-0700
TZOFFSETTO:-0800
TZNAME:PST
DTSTART:20251102T090000
END:STANDARD
BEGIN:DAYLIGHT
TZOFFSETFROM:-0800
TZOFFSETTO:-0700
TZNAME:PDT
DTSTART:20260308T100000
END:DAYLIGHT
BEGIN:STANDARD
TZOFFSETFROM:-0700
TZOFFSETTO:-0800
TZNAME:PST
DTSTART:20261101T090000
END:STANDARD
BEGIN:DAYLIGHT
TZOFFSETFROM:-0800
TZOFFSETTO:-0700
TZNAME:PDT
DTSTART:20270314T100000
END:DAYLIGHT
BEGIN:STANDARD
TZOFFSETFROM:-0700
TZOFFSETTO:-0800
TZNAME:PST
DTSTART:20271107T090000
END:STANDARD
END:VTIMEZONE
BEGIN:VEVENT
DTSTART;TZID=America/Los_Angeles:20260410T193000
DTEND;TZID=America/Los_Angeles:20260426T214500
DTSTAMP:20260422T025419
CREATED:20250827T154604Z
LAST-MODIFIED:20260303T232835Z
UID:4763-1775849400-1777239900@101thingstodoinwinecountry.com
SUMMARY:6th Street Playhouse presents Head Over Heels
DESCRIPTION:“It’s a feel good riot from start to finish.“\n— Jay Darcy\, Mancunion Media Group \nGet ready for a wild\, laugh-out-loud adventure with HEAD OVER HEELS—the electrifying musical comedy from the creative forces behind Hedwig and the Angry Inch\, Avenue Q\, and Spring Awakening! Nominated for Outstanding New Broadway Musical in 2019 and powered by the chart-topping hits of the legendary all-female rock band The Go-Go’s\, this high-energy show features beloved anthems like “We Got the Beat\,” “Our Lips Are Sealed\,” “Vacation\,” “Heaven is a Place on Earth\,” and “Mad About You.” \nJoin a spirited royal family on a whirlwind quest to save their kingdom from doom—only to realize that the key to their future isn’t written in fate\, but in their own hearts. Packed with irresistible music\, over-the-top comedy\, and a whole lot of love\, HEAD OVER HEELS is a dazzling\, feel-good spectacle that will have you dancing in your seat!
URL:http://101thingstodoinwinecountry.com/event/6th-street-playhouse-presents-head-over-heels
LOCATION:6th Street Playouse\, 52 W. 6th Street\, Santa Rosa\, 95401\, United States
CATEGORIES:6th Street Playhouse,Event April-2026,Live Entertainment,Musical Theater
ATTACH;FMTTYPE=image/jpeg:http://101thingstodoinwinecountry.com/wp-content/uploads/2025/08/Head-over-Heels.jpg
END:VEVENT
BEGIN:VEVENT
DTSTART;VALUE=DATE:20260508
DTEND;VALUE=DATE:20260525
DTSTAMP:20260422T025419
CREATED:20250827T155201Z
LAST-MODIFIED:20260409T234712Z
UID:4766-1778198400-1779667199@101thingstodoinwinecountry.com
SUMMARY:6th Street Playhouse presents The Lifespan of a Fact
DESCRIPTION:“Designed for laughs\, but the play has a provocative undercurrent regarding issues that make it a compelling piece of theatre.”\n—Cincinnati CityBeat \nThe Lifespan of a Fact is a critically acclaimed Broadway play that delves into the contentious realm where truth and storytelling intersect. The narrative centers on Emily Penrose\, the exacting editor-in-chief of a prestigious magazine\, who assigns Jim Fingal\, an ambitious young fact-checker\, to verify a groundbreaking essay by renowned author John D’Agata. As Jim meticulously scrutinizes the piece\, he discovers numerous embellishments\, igniting a fierce debate over the boundaries of factual accuracy versus creative license. This fast-paced\, blistering comedy offers a timely exploration of the high-stakes world of publishing\, where the quest for truth becomes a battleground of wit\, ethics\, and editorial judgment. \nThe play has been lauded for its sharp dialogue and thought-provoking themes\, prompting audiences to question: In storytelling\, how far can one go before the facts become fiction?
URL:http://101thingstodoinwinecountry.com/event/6th-street-playhouse-presents-the-lifespan-of-a-fact
LOCATION:6th Street Playouse\, 52 W. 6th Street\, Santa Rosa\, 95401\, United States
CATEGORIES:6th Street Playhouse,Comedy,Drama,Event May-2026,Live Entertainment,Stage Play
ATTACH;FMTTYPE=image/jpeg:http://101thingstodoinwinecountry.com/wp-content/uploads/2025/08/Lifespan-of-a-Fact.jpg
END:VEVENT
BEGIN:VEVENT
DTSTART;TZID=America/Los_Angeles:20260529T193000
DTEND;TZID=America/Los_Angeles:20260621T220000
DTSTAMP:20260422T025419
CREATED:20250827T155952Z
LAST-MODIFIED:20260303T233003Z
UID:4769-1780083000-1782079200@101thingstodoinwinecountry.com
SUMMARY:6th Street Playhouse presents Sister Act
DESCRIPTION:“One of the season’s happiest surprises.”\n—Elisabeth Vincentelli for New York Post \nSister Act is the high-energy musical comedy based on the beloved 1992 film. Featuring an electrifying Alan Menken score infused with disco and gospel beats\, this feel-good show is a celebration of music\, sisterhood\, and second chances. \nWhen disco diva Deloris Van Cartier witnesses a crime\, she’s forced into hiding—in a convent! Disguised as a nun\, she transforms the struggling choir with her powerhouse voice\, helping them find their sound while discovering her own. Nominated for five Tony Awards\, Sister Act is a joyful\, soul-stirring spectacle that proves music—and a little mischief—can work miracles!
URL:http://101thingstodoinwinecountry.com/event/6th-street-playhouse-presents-sister-act
LOCATION:6th Street Playouse\, 52 W. 6th Street\, Santa Rosa\, 95401\, United States
CATEGORIES:6th Street Playhouse,Event June-2026,Event May-2026,Live Entertainment,Musical Theater
ATTACH;FMTTYPE=image/jpeg:http://101thingstodoinwinecountry.com/wp-content/uploads/2025/08/Sister-Act.jpg
END:VEVENT
END:VCALENDAR