BEGIN:VCALENDAR
VERSION:2.0
PRODID:-//101 Things to Do in Wine Country - ECPv6.15.20//NONSGML v1.0//EN
CALSCALE:GREGORIAN
METHOD:PUBLISH
X-WR-CALNAME:101 Things to Do in Wine Country
X-ORIGINAL-URL:http://101thingstodoinwinecountry.com
X-WR-CALDESC:Events for 101 Things to Do in Wine Country
REFRESH-INTERVAL;VALUE=DURATION:PT1H
X-Robots-Tag:noindex
X-PUBLISHED-TTL:PT1H
BEGIN:VTIMEZONE
TZID:America/Los_Angeles
BEGIN:DAYLIGHT
TZOFFSETFROM:-0800
TZOFFSETTO:-0700
TZNAME:PDT
DTSTART:20250309T100000
END:DAYLIGHT
BEGIN:STANDARD
TZOFFSETFROM:-0700
TZOFFSETTO:-0800
TZNAME:PST
DTSTART:20251102T090000
END:STANDARD
BEGIN:DAYLIGHT
TZOFFSETFROM:-0800
TZOFFSETTO:-0700
TZNAME:PDT
DTSTART:20260308T100000
END:DAYLIGHT
BEGIN:STANDARD
TZOFFSETFROM:-0700
TZOFFSETTO:-0800
TZNAME:PST
DTSTART:20261101T090000
END:STANDARD
BEGIN:DAYLIGHT
TZOFFSETFROM:-0800
TZOFFSETTO:-0700
TZNAME:PDT
DTSTART:20270314T100000
END:DAYLIGHT
BEGIN:STANDARD
TZOFFSETFROM:-0700
TZOFFSETTO:-0800
TZNAME:PST
DTSTART:20271107T090000
END:STANDARD
END:VTIMEZONE
BEGIN:VEVENT
DTSTART;VALUE=DATE:20260410
DTEND;VALUE=DATE:20260427
DTSTAMP:20260424T122917
CREATED:20260303T181949Z
LAST-MODIFIED:20260303T181949Z
UID:7034-1775779200-1777247999@101thingstodoinwinecountry.com
SUMMARY:Cinnabar Theater presents The Christians
DESCRIPTION:A powerful drama about faith\, community\, and belief\, The Christians follows Pastor Paul as he delivers a sermon that shakes the foundation of his megachurch. This thought-provoking play explores the complexities of conviction and the challenges of change in contemporary America.
URL:http://101thingstodoinwinecountry.com/event/cinnabar-theater-presents-the-christians
LOCATION:Sonoma State University\, 1801 East Cotati Avenue\, Rohnert Park\, ca\, 94928
CATEGORIES:Cinnabar Theater,Drama,Event April-2026,Live Entertainment,Stage Play
ATTACH;FMTTYPE=image/jpeg:http://101thingstodoinwinecountry.com/wp-content/uploads/2026/03/The-Christians.jpg
END:VEVENT
BEGIN:VEVENT
DTSTART;TZID=America/Los_Angeles:20260410T193000
DTEND;TZID=America/Los_Angeles:20260426T214500
DTSTAMP:20260424T122917
CREATED:20250827T154604Z
LAST-MODIFIED:20260303T232835Z
UID:4763-1775849400-1777239900@101thingstodoinwinecountry.com
SUMMARY:6th Street Playhouse presents Head Over Heels
DESCRIPTION:“It’s a feel good riot from start to finish.“\n— Jay Darcy\, Mancunion Media Group \nGet ready for a wild\, laugh-out-loud adventure with HEAD OVER HEELS—the electrifying musical comedy from the creative forces behind Hedwig and the Angry Inch\, Avenue Q\, and Spring Awakening! Nominated for Outstanding New Broadway Musical in 2019 and powered by the chart-topping hits of the legendary all-female rock band The Go-Go’s\, this high-energy show features beloved anthems like “We Got the Beat\,” “Our Lips Are Sealed\,” “Vacation\,” “Heaven is a Place on Earth\,” and “Mad About You.” \nJoin a spirited royal family on a whirlwind quest to save their kingdom from doom—only to realize that the key to their future isn’t written in fate\, but in their own hearts. Packed with irresistible music\, over-the-top comedy\, and a whole lot of love\, HEAD OVER HEELS is a dazzling\, feel-good spectacle that will have you dancing in your seat!
URL:http://101thingstodoinwinecountry.com/event/6th-street-playhouse-presents-head-over-heels
LOCATION:6th Street Playouse\, 52 W. 6th Street\, Santa Rosa\, 95401\, United States
CATEGORIES:6th Street Playhouse,Event April-2026,Live Entertainment,Musical Theater
ATTACH;FMTTYPE=image/jpeg:http://101thingstodoinwinecountry.com/wp-content/uploads/2025/08/Head-over-Heels.jpg
END:VEVENT
BEGIN:VEVENT
DTSTART;VALUE=DATE:20260417
DTEND;VALUE=DATE:20260427
DTSTAMP:20260424T122917
CREATED:20260304T020803Z
LAST-MODIFIED:20260304T020803Z
UID:7096-1776384000-1777247999@101thingstodoinwinecountry.com
SUMMARY:Cloverdale Performing Arts Center presents Leading Ladies
DESCRIPTION:In this hilarious comedy\, two English Shakespearean actors\, Leo and Jack\, find themselves so down on their luck that they’re performing “Scenes from Shakespeare” on the Moose Lodge circuit in the Amish country of Pennsylvania.  \nBut then\, what luck!  They hear that dear old Florence of nearby York\, PA is about to die and leave her fortune to her two long lost English nephews whom she has never seen.  For Jack and Leo it is the work of an instant to turn themselves into nephews Max and Steve and grab the cash.  And that’s when the complications set in…  \nRomantic entanglements abound\, as Some Like It Hot meets Twelfth Night in this screwball comedy filled with bad behavior\, high heels and a world of comedy.
URL:http://101thingstodoinwinecountry.com/event/cloverdale-performing-arts-center-presents-leading-ladies
LOCATION:Cloverdale Performing Arts Center\, 209 N Cloverdale Blvd\, Cloverdale\, CA\, 95425\, United States
CATEGORIES:Cloverdale Performing Arts Center,Comedy,Event April-2026,Live Entertainment,Stage Play
ATTACH;FMTTYPE=image/jpeg:http://101thingstodoinwinecountry.com/wp-content/uploads/2026/03/Leading-Ladies.jpg
END:VEVENT
BEGIN:VEVENT
DTSTART;VALUE=DATE:20260424
DTEND;VALUE=DATE:20260426
DTSTAMP:20260424T122917
CREATED:20260331T191012Z
LAST-MODIFIED:20260331T191012Z
UID:7398-1776988800-1777161599@101thingstodoinwinecountry.com
SUMMARY:Hollywood Heads to Napa: Napa Valley StreamFest
DESCRIPTION:Program starts: 10:30am\nAge: 18+ \n\nNapa Valley StreamFest is back\, reimagining the film festival experience.  Join us Friday and Saturday for an immersive journey through world-premiere film screenings\, live podcast recordings\, “unfiltered” conversations with creators\, and our renowned StreamFest Tribute Awards. \nWe’ve fixed the festival model: One curated stage. No lines. No venue hopping. Just storytelling at its finest. \nChoose Your Experience: \nThe 2-Day Experience ($225): The Ultimate Bingeable Weekend at Uptown Theatre  \nFriday\, April 24th \n\nOn-stage conversation with Amanda McCants\, moderated by Mark S. Allen\nAM Binge: Micro-shorts\, Drama Block\, and a Pilot Episode\nAn afternoon break at the SABU Wellness Experience with Dr. Jenelle Kim at the CIA at Copia. Panel discussion with JB Copland\, Chrisspy and Katherine Castro\nPM Binge: Live Podcasts (TBD) & the “Females In Focus” Shorts Block presented by the Association of Women Directors\nFriday Night Double Feature: Marquee Film (TBD) + If These Walls Could Rock with director Tyler Measom and special guest\n\nSaturday\, April 25th  \n\nOn-stage conversation with comedian Becky Robinson\, moderated by Mark S. Allen\nAM Binge: “StreamFest In The Works” pitch competition\, Shorts Comedy Block\, and announcement of the Big Short Competition\nAn afternoon break with pop-up panels\, book signings\, and conversations at local downtown locations\, all within blocks from Uptown Theatre\nPM Binge: Pilot Episodes and Short Films\nStreamFest Tribute Awards with special guests\nAwards Chatter Live Podcast with Scott Feinberg from The Hollywood Reporter\, featuring a celebrity guest\nSaturday Night World-Premiere feature film: Casa Grande\n\nSingle-Day Passes (Friday or Saturday) for just $125\n\n \n4-DAY VIP experiences are also available\, which include the Thursday Opening Night “Push Play” Party\, additional panel discussions\, and the Sunday “Hit Pause” Party.\n\nStreamFest is a 501(c)3 Non-profit supporting mid-career professionals pivoting into or within the entertainment industry. Join our mission in supporting storytelling across all streaming platforms. Passes are going fast; secure your seat now.\n\nTickets at https://Napavalleystreamfest2026.eventbrite.com
URL:http://101thingstodoinwinecountry.com/event/hollywood-heads-to-napa-napa-valley-streamfest
LOCATION:Uptown Theatre\, 1350 Third Street\, Napa\, CA\, 94559\, United States
CATEGORIES:Cinema,Event April-2026,Live Entertainment,Uptown Theatre
ATTACH;FMTTYPE=image/jpeg:http://101thingstodoinwinecountry.com/wp-content/uploads/2026/03/Hollywood-Heads-to-Napa.jpg
END:VEVENT
BEGIN:VEVENT
DTSTART;TZID=America/Los_Angeles:20260424T183000
DTEND;TZID=America/Los_Angeles:20260424T203000
DTSTAMP:20260424T122917
CREATED:20260401T000220Z
LAST-MODIFIED:20260401T000220Z
UID:7482-1777055400-1777062600@101thingstodoinwinecountry.com
SUMMARY:The California Theatre presents Velvet Fog
DESCRIPTION:Decades of hits\, high energy\, and near-album quality sound—The Velvet Fog brings the ultimate live cover experience. \nGet ready for an unforgettable night of live music as The Velvet Fog takes the stage on Friday\, April 24 for an evening packed with energy\, groove\, and crowd-favorite hits! \nBringing their signature blend of danceable classics\, smooth harmonies and feel-good vibes\, The Velvet Fog knows how to keep the party moving from the first note to the last encore. \nSpecial Guests: Coffey Park Kicking off the night\, Coffey Park will set the tone with their dynamic sound and infectious stage presence — the perfect way to start an epic Friday night out. \nGrab your friends\, hit the dance floor\, and make it a night to remember. Great music\, great company\, and great vibes await!
URL:http://101thingstodoinwinecountry.com/event/the-california-theatre-presents-velvet-fog
LOCATION:The California Theatre\, 528 7th Street\, Santa Rosa\, CA\, 95401\, United States
CATEGORIES:California Theatre,Event April-2026,Live Entertainment,Music
ATTACH;FMTTYPE=image/jpeg:http://101thingstodoinwinecountry.com/wp-content/uploads/2026/03/Velvet-Fog.jpg
END:VEVENT
BEGIN:VEVENT
DTSTART;TZID=America/Los_Angeles:20260424T200000
DTEND;TZID=America/Los_Angeles:20260424T220000
DTSTAMP:20260424T122917
CREATED:20260331T165950Z
LAST-MODIFIED:20260331T165950Z
UID:7353-1777060800-1777068000@101thingstodoinwinecountry.com
SUMMARY:Sweetwater presents El Radio Fantastique with Damma Damma
DESCRIPTION:El Radio Fantastique is a cinematic\, genre-bending band that defies classification. It is led by its founder\, Giovanni DiMorente. Channeling disparate past experiences as a grave digger\, dumpster diver\, and pop star (of the 80s band Times Two)\, DiMorente fancies and celebrates the broken and crooked\, the paradox of finding beauty in things unpleasant\, and he and his band celebrate them with sublime melody and raw emotion. \n\nDiMorente has been a semi-finalist in the International Songwriting Competition (ISC)\, and not only writes songs for himself to sing\, but also for other vocalists in the band. Violinist Noelle Boucher and keyboardist Robin Livingston both step up to center stage to sing some of DiMorente’scompositions that he has tailored specifically for their individual singing styles\, one of which that was co-written by Livingston. Bassist Colin Schlitt is not only another lead singer\, but also an accomplished songwriter himself who sings his own original compositions in the band. With this wealth of songwriting\, El Radio Fantastique has well over 3 hours of original material at their disposal that encompasses multiple musical genres.
URL:http://101thingstodoinwinecountry.com/event/sweetwater-presents-el-radio-fantastique-with-damma-damma
LOCATION:Sweetwater Music Hall\, 19 Corte Madera Avenue\, Mill Valley\, CA\, 94941\, United States
CATEGORIES:Event April-2026,International Music,Latin,Live Entertainment,Music,Sweetwater
ATTACH;FMTTYPE=image/jpeg:http://101thingstodoinwinecountry.com/wp-content/uploads/2026/03/El-Radio-Fantastique.jpg
END:VEVENT
BEGIN:VEVENT
DTSTART;TZID=America/Los_Angeles:20260424T200000
DTEND;TZID=America/Los_Angeles:20260424T220000
DTSTAMP:20260424T122917
CREATED:20260331T214648Z
LAST-MODIFIED:20260331T214648Z
UID:7420-1777060800-1777068000@101thingstodoinwinecountry.com
SUMMARY:Luther Burbank Center and  ICON Concerts Presents Gary Owen: No Hard Feelings Tour
DESCRIPTION:Gary Owen has been entertaining audiences for more than two decades with his sharp observational humor and fearless storytelling. Known for his unapologetic\, rule-defying style\, his material draws from his personal life\, time in the military\, and the everyday absurdities that connect people across backgrounds. With a fanbase that has grown by the millions in recent months and continues to surge across social media\, Owen’s reach has cemented his place as one of the most in-demand touring comedians today. \nBeyond stand-up\, Owen has appeared in a wide range of feature films and television. He continues to write\, produce\, and perform his own groundbreaking comedy specials. In addition to his on-stage and on-screen work\, Owen hosts his own podcast\, #GetSome with Gary Owen. \nAges 12+ Recommended
URL:http://101thingstodoinwinecountry.com/event/luther-burbank-center-and-icon-concerts-presents-gary-owen-no-hard-feelings-tour
LOCATION:Luther Burbank Center for the Arts\, 50 Mark West Springs Road\, Santa Rosa\, 95403\, United States
CATEGORIES:Comedy,Event April-2026,Live Entertainment,Luther Burbank Center for the Arts,Stand Up Comedy
ATTACH;FMTTYPE=image/jpeg:http://101thingstodoinwinecountry.com/wp-content/uploads/2026/03/Gary-Owen.jpg
END:VEVENT
BEGIN:VEVENT
DTSTART;TZID=America/Los_Angeles:20260424T210000
DTEND;TZID=America/Los_Angeles:20260424T230000
DTSTAMP:20260424T122917
CREATED:20260401T163456Z
LAST-MODIFIED:20260401T163456Z
UID:7544-1777064400-1777071600@101thingstodoinwinecountry.com
SUMMARY:Mystic Theatre presents New Moon on Monday - Duran Duran Tribute
DESCRIPTION:New Moon on Monday is the true fan’s tribute to Duran Duran. As dedicated students of DD’s iconic sound and style\, this band is no cheap imitation.  \nInstead\, it’s a group built on honouring these pioneers of the New Romantic era and the British Invasion of MTV.  \nWith passion and precision\, New Moon performs an impressive array of the catalogue\, from massive hits like “Girls on Film” to beloved lesser-knowns such as “Hold Back the Rain.”  \n An often neglected aspect of Duran tributes\, however\, is the fashion! New Moon’s meticulous wardrobe and stage effects reflect the major influence of designers such as Vivienne Westwood on Duran’s overall aesthetic. You won’t see cheap wigs or cheap digs when New Moon hits the stage. \nNew Moon on Monday is the premiere Duran tribute: capturing the fire\, the charm\, the style and the craft – and bringing it to you.
URL:http://101thingstodoinwinecountry.com/event/mystic-theatre-presents-new-moon-on-monday-duran-duran-tribute
LOCATION:Mystic Theatre\, 23 Petaluma Blvd N\, Petaluma\, CA\, 94952\, United States
CATEGORIES:90s,90s music,Event April-2026,Live Entertainment,Music,Mystic Theatre,Rock and Roll,Tribute
ATTACH;FMTTYPE=image/jpeg:http://101thingstodoinwinecountry.com/wp-content/uploads/2026/04/New-Moon-Monday.jpg
END:VEVENT
END:VCALENDAR