BEGIN:VCALENDAR
VERSION:2.0
PRODID:-//101 Things to Do in Wine Country - ECPv6.15.20//NONSGML v1.0//EN
CALSCALE:GREGORIAN
METHOD:PUBLISH
X-WR-CALNAME:101 Things to Do in Wine Country
X-ORIGINAL-URL:http://101thingstodoinwinecountry.com
X-WR-CALDESC:Events for 101 Things to Do in Wine Country
REFRESH-INTERVAL;VALUE=DURATION:PT1H
X-Robots-Tag:noindex
X-PUBLISHED-TTL:PT1H
BEGIN:VTIMEZONE
TZID:America/Los_Angeles
BEGIN:DAYLIGHT
TZOFFSETFROM:-0800
TZOFFSETTO:-0700
TZNAME:PDT
DTSTART:20250309T100000
END:DAYLIGHT
BEGIN:STANDARD
TZOFFSETFROM:-0700
TZOFFSETTO:-0800
TZNAME:PST
DTSTART:20251102T090000
END:STANDARD
BEGIN:DAYLIGHT
TZOFFSETFROM:-0800
TZOFFSETTO:-0700
TZNAME:PDT
DTSTART:20260308T100000
END:DAYLIGHT
BEGIN:STANDARD
TZOFFSETFROM:-0700
TZOFFSETTO:-0800
TZNAME:PST
DTSTART:20261101T090000
END:STANDARD
BEGIN:DAYLIGHT
TZOFFSETFROM:-0800
TZOFFSETTO:-0700
TZNAME:PDT
DTSTART:20270314T100000
END:DAYLIGHT
BEGIN:STANDARD
TZOFFSETFROM:-0700
TZOFFSETTO:-0800
TZNAME:PST
DTSTART:20271107T090000
END:STANDARD
END:VTIMEZONE
BEGIN:VEVENT
DTSTART;VALUE=DATE:20260410
DTEND;VALUE=DATE:20260427
DTSTAMP:20260422T013813
CREATED:20260303T181949Z
LAST-MODIFIED:20260303T181949Z
UID:7034-1775779200-1777247999@101thingstodoinwinecountry.com
SUMMARY:Cinnabar Theater presents The Christians
DESCRIPTION:A powerful drama about faith\, community\, and belief\, The Christians follows Pastor Paul as he delivers a sermon that shakes the foundation of his megachurch. This thought-provoking play explores the complexities of conviction and the challenges of change in contemporary America.
URL:http://101thingstodoinwinecountry.com/event/cinnabar-theater-presents-the-christians
LOCATION:Sonoma State University\, 1801 East Cotati Avenue\, Rohnert Park\, ca\, 94928
CATEGORIES:Cinnabar Theater,Drama,Event April-2026,Live Entertainment,Stage Play
ATTACH;FMTTYPE=image/jpeg:http://101thingstodoinwinecountry.com/wp-content/uploads/2026/03/The-Christians.jpg
END:VEVENT
BEGIN:VEVENT
DTSTART;TZID=America/Los_Angeles:20260410T193000
DTEND;TZID=America/Los_Angeles:20260426T214500
DTSTAMP:20260422T013813
CREATED:20250827T154604Z
LAST-MODIFIED:20260303T232835Z
UID:4763-1775849400-1777239900@101thingstodoinwinecountry.com
SUMMARY:6th Street Playhouse presents Head Over Heels
DESCRIPTION:“It’s a feel good riot from start to finish.“\n— Jay Darcy\, Mancunion Media Group \nGet ready for a wild\, laugh-out-loud adventure with HEAD OVER HEELS—the electrifying musical comedy from the creative forces behind Hedwig and the Angry Inch\, Avenue Q\, and Spring Awakening! Nominated for Outstanding New Broadway Musical in 2019 and powered by the chart-topping hits of the legendary all-female rock band The Go-Go’s\, this high-energy show features beloved anthems like “We Got the Beat\,” “Our Lips Are Sealed\,” “Vacation\,” “Heaven is a Place on Earth\,” and “Mad About You.” \nJoin a spirited royal family on a whirlwind quest to save their kingdom from doom—only to realize that the key to their future isn’t written in fate\, but in their own hearts. Packed with irresistible music\, over-the-top comedy\, and a whole lot of love\, HEAD OVER HEELS is a dazzling\, feel-good spectacle that will have you dancing in your seat!
URL:http://101thingstodoinwinecountry.com/event/6th-street-playhouse-presents-head-over-heels
LOCATION:6th Street Playouse\, 52 W. 6th Street\, Santa Rosa\, 95401\, United States
CATEGORIES:6th Street Playhouse,Event April-2026,Live Entertainment,Musical Theater
ATTACH;FMTTYPE=image/jpeg:http://101thingstodoinwinecountry.com/wp-content/uploads/2025/08/Head-over-Heels.jpg
END:VEVENT
BEGIN:VEVENT
DTSTART;VALUE=DATE:20260417
DTEND;VALUE=DATE:20260427
DTSTAMP:20260422T013813
CREATED:20260304T020803Z
LAST-MODIFIED:20260304T020803Z
UID:7096-1776384000-1777247999@101thingstodoinwinecountry.com
SUMMARY:Cloverdale Performing Arts Center presents Leading Ladies
DESCRIPTION:In this hilarious comedy\, two English Shakespearean actors\, Leo and Jack\, find themselves so down on their luck that they’re performing “Scenes from Shakespeare” on the Moose Lodge circuit in the Amish country of Pennsylvania.  \nBut then\, what luck!  They hear that dear old Florence of nearby York\, PA is about to die and leave her fortune to her two long lost English nephews whom she has never seen.  For Jack and Leo it is the work of an instant to turn themselves into nephews Max and Steve and grab the cash.  And that’s when the complications set in…  \nRomantic entanglements abound\, as Some Like It Hot meets Twelfth Night in this screwball comedy filled with bad behavior\, high heels and a world of comedy.
URL:http://101thingstodoinwinecountry.com/event/cloverdale-performing-arts-center-presents-leading-ladies
LOCATION:Cloverdale Performing Arts Center\, 209 N Cloverdale Blvd\, Cloverdale\, CA\, 95425\, United States
CATEGORIES:Cloverdale Performing Arts Center,Comedy,Event April-2026,Live Entertainment,Stage Play
ATTACH;FMTTYPE=image/jpeg:http://101thingstodoinwinecountry.com/wp-content/uploads/2026/03/Leading-Ladies.jpg
END:VEVENT
BEGIN:VEVENT
DTSTART;TZID=America/Los_Angeles:20260419T190000
DTEND;TZID=America/Los_Angeles:20260420T220000
DTSTAMP:20260422T013813
CREATED:20260331T234710Z
LAST-MODIFIED:20260331T234710Z
UID:7474-1776625200-1776722400@101thingstodoinwinecountry.com
SUMMARY:The California Theatre presents The Dylan Black Project and The Jessie Street Band Jam Session
DESCRIPTION:Funk\, rock\, and soul collide in a high-energy jam with Terry Sanders & The Blender\, Dylan Black Project\, and Jessie Street Band. \nJoin Terry Sanders & The Blender for a funk-fueled jam session featuring the Dylan Black Project and special guest The Jessie Street Band. Expect an electrifying night where rock\, blues\, soul\, and funk blend together in a free-flowing celebration of live music and musicianship. \nRooted in Sonoma County’s vibrant music scene\, The Jessie Street Band brings decades of experience and a timeless sound shaped by classic American rock\, blues\, and soul. With tight grooves\, soulful harmonies\, and fiery guitar work\, this seasoned four-piece delivers the kind of authentic\, dance-worthy energy that only comes from musicians who truly live the music. \nMusicians: Sign up to participate HERE: https://forms.gle/6kbvdGYnwi7GDVzZ7
URL:http://101thingstodoinwinecountry.com/event/the-california-theatre-presents-the-dylan-black-project-and-the-jessie-street-band-jam-session
LOCATION:The California Theatre\, 528 7th Street\, Santa Rosa\, CA\, 95401\, United States
CATEGORIES:California Theatre,Event April-2026,Live Entertainment,Music
ATTACH;FMTTYPE=image/jpeg:http://101thingstodoinwinecountry.com/wp-content/uploads/2026/03/Third-Sunday-Throwdown.jpg
END:VEVENT
BEGIN:VEVENT
DTSTART;TZID=America/Los_Angeles:20260420T180000
DTEND;TZID=America/Los_Angeles:20260420T210000
DTSTAMP:20260422T013813
CREATED:20260331T235215Z
LAST-MODIFIED:20260331T235215Z
UID:7477-1776708000-1776718800@101thingstodoinwinecountry.com
SUMMARY:The California Theatre presents Pro Jam with Special Guest Craig Caffall
DESCRIPTION:Bay Area singer/songwriter/guitarist Craig Caffall brings his special brand of blues to The California. \nPro Jam welcomes Bay Area singer/songwriter/guitarist Craig Caffall\, who has worked with multiple artists including Bo Diddley\, John Mayall\, Martha Davis and the Motels\, David Clayton Thomas\, The Neville Brothers\, Lee Oskar\, Dan Hicks\, Bonnie Raitt\, Bob Wier\, and Steve Earle. He’s toured with Shana Morrison and played guitar with legendary singer Maria Muldaur\, touring with Maria throughout the United States\, Canada\, Mexico\, England\, Ireland\, Czech Republic\, Switzerland and Japan.
URL:http://101thingstodoinwinecountry.com/event/the-california-theatre-presents-pro-jam-with-special-guest-craig-caffall
LOCATION:The California Theatre\, 528 7th Street\, Santa Rosa\, CA\, 95401\, United States
CATEGORIES:California Theatre,Event April-2026,Live Entertainment,Music
ATTACH;FMTTYPE=image/jpeg:http://101thingstodoinwinecountry.com/wp-content/uploads/2026/03/Craig-Cafall.jpg
END:VEVENT
BEGIN:VEVENT
DTSTART;TZID=America/Los_Angeles:20260420T200000
DTEND;TZID=America/Los_Angeles:20260420T220000
DTSTAMP:20260422T013813
CREATED:20260331T161819Z
LAST-MODIFIED:20260331T161819Z
UID:7344-1776715200-1776722400@101thingstodoinwinecountry.com
SUMMARY:Sweetwater presents The High Green Chilly Winds
DESCRIPTION:The High Green Chilly Winds manage to channel that elusive Dead vibe uniquely\, with wide-open guitar tones\, effortless three-part vocal harmonies\, choogling beats\, and yes\, plenty of tripped out\, shredded solos. The look\, the sound\, the atmosphere is uncanny. Far from being a historical re-enactment\, this band’s laissez faire flow infuses the band with a gentle spirit\, warmth\, and (dare we say it) authenticity. From their killer merch game to their eminently watchable YouTube channel\, they’re clearly having a real good time spreading the love. Strangely enough\, in a world overflowing with wax museum nostalgia and Deadly sentimentalism\, we need the Chilly Winds\, now more than ever.
URL:http://101thingstodoinwinecountry.com/event/sweetwater-presents-the-high-green-chilly-winds
LOCATION:Sweetwater Music Hall\, 19 Corte Madera Avenue\, Mill Valley\, CA\, 94941\, United States
CATEGORIES:Event April-2026,Live Entertainment,Music,Rock and Roll,Sweetwater,Tribute
ATTACH;FMTTYPE=image/jpeg:http://101thingstodoinwinecountry.com/wp-content/uploads/2026/03/High-Green-Chilly-Winds.jpg
END:VEVENT
BEGIN:VEVENT
DTSTART;TZID=America/Los_Angeles:20260420T200000
DTEND;TZID=America/Los_Angeles:20260420T220000
DTSTAMP:20260422T013813
CREATED:20260331T185726Z
LAST-MODIFIED:20260331T185726Z
UID:7392-1776715200-1776722400@101thingstodoinwinecountry.com
SUMMARY:JaM Cellers presents An Evening with Matisyahu
DESCRIPTION:There is a spirit that hovers above the waters. It has been here since the beginning of creation\, yet it is just being born. Ancient Child is Matisyahu’s 8th full length studio album. In Jewish mysticism\, eight is the number beyond the natural cycle of the physical world.  As Matisyahu brings forth his eighth studio album\, the Ancient Child simultaneously reaches back in time and towards the future\, in search of the infinite divine light of redemption. Here\, Matisyahu finds himself reconnected with his Jewish identity and spirituality in a world post October 7th. \nIn a climate that has become obsessed with being “right” and defending its ego at all costs\, the Ancient Child investigates questions about history\, identity and destiny from the humility of a child through the wisdom of the of generations’ past. While Matisyahu had shifted his focus over the last decade to his personal life from his religion\, Ancient Child is a strong return to his love for Judaism and the deep existential quest to find universal meaning in the darkness.So what does Matisyahu come up with? \n\n\n\n\n\n\n\n\n\n\nWhen the world turns to darkness\, humanity has a choice – hide in a corner or meet at the crossroads and find a way to come together.
URL:http://101thingstodoinwinecountry.com/event/jam-cellers-presents-an-evening-with-matisyahu
LOCATION:Sweetwater Music Hall\, 19 Corte Madera Avenue\, Mill Valley\, CA\, 94941\, United States
CATEGORIES:Event April-2026,Live Entertainment,Music,Uptown Theatre
ATTACH;FMTTYPE=image/jpeg:http://101thingstodoinwinecountry.com/wp-content/uploads/2026/03/MATISYAHU.jpg
END:VEVENT
END:VCALENDAR